BEGIN:VCALENDAR
VERSION:2.0
PRODID:-//Tukios.com/
BEGIN:VEVENT
UID:4f48bbc9-365d-4911-8382-45e96e0d5068@www.barnesfuneralhome.com
DTSTAMP:20260420T014211Z
DTSTART:20260422T200000Z
DTEND:20260422T230000Z
SUMMARY:Viewing
DESCRIPTION:
URL:https://www.barnesfuneralhome.com/obituaries/dr-edwin-leas-jr
LOCATION: 220 E Main St  Eaton OH 45320
GEO:39.7443863;-84.6337283
END:VEVENT
END:VCALENDAR