BEGIN:VCALENDAR
VERSION:2.0
PRODID:-//Tukios.com/
BEGIN:VEVENT
UID:74881ca7-f13b-44da-8733-e583f2d57394@www.barnesfuneralhome.com
DTSTAMP:20260420T013953Z
DTSTART:20260423T150000Z
DTEND:20260423T160000Z
SUMMARY:Funeral Service
DESCRIPTION:
URL:https://www.barnesfuneralhome.com/obituaries/dr-edwin-leas-jr
LOCATION: 813 Camden Rd  Eaton OH 45320
GEO:39.7318336;-84.651203
END:VEVENT
END:VCALENDAR