BEGIN:VCALENDAR
VERSION:2.0
PRODID:-//Tukios.com/
BEGIN:VEVENT
UID:99744617-75d2-497d-9719-123aaffd05fb@www.barnesfuneralhome.com
DTSTAMP:20260420T013957Z
DTSTART:20260423
SUMMARY:Burial
DESCRIPTION:
URL:https://www.barnesfuneralhome.com/obituaries/dr-edwin-leas-jr
LOCATION: 1060 Foos Rd  West Manchester OH 45382
GEO:39.865041;-84.6476939
END:VEVENT
END:VCALENDAR